BEGIN:VCALENDAR
VERSION:2.0
PRODID:-//Procuremate Magazine - ECPv6.15.20//NONSGML v1.0//EN
CALSCALE:GREGORIAN
METHOD:PUBLISH
X-ORIGINAL-URL:https://procurement.co.ug
X-WR-CALDESC:Events for Procuremate Magazine
REFRESH-INTERVAL;VALUE=DURATION:PT1H
X-Robots-Tag:noindex
X-PUBLISHED-TTL:PT1H
BEGIN:VTIMEZONE
TZID:UTC
BEGIN:STANDARD
TZOFFSETFROM:+0000
TZOFFSETTO:+0000
TZNAME:UTC
DTSTART:20230101T000000
END:STANDARD
END:VTIMEZONE
BEGIN:VEVENT
DTSTART;VALUE=DATE:20250528
DTEND;VALUE=DATE:20250530
DTSTAMP:20260426T013400
CREATED:20241119T052519Z
LAST-MODIFIED:20241119T052545Z
UID:4060-1748390400-1748563199@procurement.co.ug
SUMMARY:International Conference on Procurement\, Logistics and Supply Chain Management - (ICPLSCM-25)
DESCRIPTION:International Conference on Procurement\, Logistics and Supply Chain Management – (ICPLSCM-25)\n28th – 29th May 2025 |  Gulu | Uganda (In-person or Virtual).\nAbout Conference\nTo the International Conference on Procurement\, Logistics and Supply Chain Management to be held on 28th – 29th May 2025 in Gulu. The Conference will witness the participation of the Academicians\, Universities\, Professionals and Industry experts gathering on a global platform to discuss the future prospects in . \nObjective of the conference\nThe central aim of the is to share knowledge and to enlighten about novel advancements\, anticipate problems in the field of Business Management and Social Innovation from Emeritus Professors\, Eminent Scientists\, Faculties like Directors\, Senior Professors / Assistant Professors / Associate Professor\, Experts in the field of Business Management and Social Innovation\, Research Scholars\, Industrial Delegates and Student Communities in the relevant fields. \nScope and Benefits\n\nAll the accepted papers will be published in the conference proceedings.\nAll the accepted paper will be published in relevant International Journals.\nAccepted paper will be provided with a Digital Object Identifier(DOI) number with which they can find their research paper uploaded at the doidirectory.com\nAwards will be given for the best research paper as well as best paper presentation.\nARF DELEGATES EXCHANGE PROGRAMME (IDEP): Delegates from IARF conferences with brilliant ideas and research initiatives would be sent to carry out the research and development activities at overseas\, abroad and International organizations having collaboration with IARF.\nDelegates with research activities and innovative ideas which may be beneficiary for humanities will be funded through IARF Research Funding Scheme.\n\nRegistration Fee\n\nGuidelines to select the Registration Fee\n\nIf you are Oral Presenter link or as a Poster presenter link you should register as a delegate/student.\nIf you are a listener you should register as an attendee.\nHowever\, if you cannot participate but still would want to present at the you can select the virtual presenter link\nThe registration fee is based on your citizenship\, not nationality.\n\nPlease go through the following table before you register. We have structured a comprehensive price table for providing you with the best returns from the conference. \nIf you are unsure about the category you belong to please drop a email to info@iarfconference.com for more details.
URL:https://procurement.co.ug/event/international-conference-on-procurement-logistics-and-supply-chain-management-icplscm-25/
CATEGORIES:Conference
ATTACH;FMTTYPE=image/png:https://procurement.co.ug/wp-content/uploads/2024/11/conference.png
END:VEVENT
BEGIN:VEVENT
DTSTART;VALUE=DATE:20241001
DTEND;VALUE=DATE:20241003
DTSTAMP:20260426T013400
CREATED:20240909T023149Z
LAST-MODIFIED:20240916T025531Z
UID:3581-1727740800-1727913599@procurement.co.ug
SUMMARY:The 13th Annual Mineral Wealth Conference 2024
DESCRIPTION:Welcome to the 13th Annual Mineral Wealth Conference\nOrganized by the Uganda Chamber of Mines and Petroleum\, in collaboration with the Ministry of Energy and Mineral Development of the Government of Uganda and other stakeholders. This conference builds on the success of previous conferences\, which have established Uganda and the whole region as a prime destination for mineral investment and exploration. Taking place on 1-2 October at the Kampala Serena Hotel in Uganda\, held under the theme: “Leveraging Critical Minerals for Sustainable Development and Economic Transformation.” \n  \n\n\nLeveraging Critical Minerals for Sustainable Development and Economic Transformation.\n\n\n\n\nIn 2024\, the Mineral Wealth Conference returns bigger and better. The conference will provide a unique platform for stakeholders involved in Minerals to engage in high-level discussions\, networking\, and business-to-business meetings\, ultimately promoting opportunities in the sourcing and development of Critical Minerals. This is a platform that brings together key decision-makers representing organizations and businesses that are fully dedicated to the development of the mining industry. \n\n\nWhy you should attend?\n\n\n\n\nThe Conference will deliver a robust program featuring diverse initiatives\, activities\, onsite supplier development engagements\, and presentations from global and local expert speakers. Attending will ensure you are up to date with all ongoing developments to strategically align your business to meet the required industry requirements in order to supply the sector. The Mineral Wealth Conference is a strategic place to meet\, network\, exchange ideas\, and initiate partnerships aimed at enhancing capacity and ultimately value retention. \n\nKey Discussion Topics\n\n  \n\nMineral Sector Governance and Regulation\nLicensing in Uganda’s Extractive Sector\nClimate Change and the Extractives Sector\nCritical Minerals for Sustainable Development\nInvestment Opportunities in Uganda and the Region\nValue Addition and Beneficiation\nFinancing the Extractives Sector\nDiversity\, Equity\, and Inclusion in Extractives\nLeveraging Strategic Partnership and Markets for Minerals\nEnvironment Governance and Social Considerations\nEmerging Issues with Artisanal and Small-Scale Mining\nEmerging Technologies in the Extractives Sector\nRisk Management Considerations\nFuture of Mining\, Innovation and Young Leaders\n\nJoin the Uganda Chamber of mines for the 13th Annual Mineral Wealth Conference on Oct 1-2 at Kampala Serena Hotel. Discover the latest trends in critical minerals and explore investment opportunities in Uganda’s thriving mining sector. #MineralWealthConference
URL:https://procurement.co.ug/event/the-13th-annual-mineral-wealth-conference-2024/
CATEGORIES:Conference
ATTACH;FMTTYPE=image/jpeg:https://procurement.co.ug/wp-content/uploads/2024/09/minerals.jpg
END:VEVENT
END:VCALENDAR