BEGIN:VCALENDAR
VERSION:2.0
PRODID:-//Procuremate Magazine - ECPv6.15.20//NONSGML v1.0//EN
CALSCALE:GREGORIAN
METHOD:PUBLISH
X-ORIGINAL-URL:https://procurement.co.ug
X-WR-CALDESC:Events for Procuremate Magazine
REFRESH-INTERVAL;VALUE=DURATION:PT1H
X-Robots-Tag:noindex
X-PUBLISHED-TTL:PT1H
BEGIN:VTIMEZONE
TZID:Africa/Nairobi
BEGIN:STANDARD
TZOFFSETFROM:+0300
TZOFFSETTO:+0300
TZNAME:EAT
DTSTART:20240101T000000
END:STANDARD
END:VTIMEZONE
BEGIN:VEVENT
DTSTART;TZID=Africa/Nairobi:20251129T160000
DTEND;TZID=Africa/Nairobi:20251129T233000
DTSTAMP:20260426T001934
CREATED:20250201T062222Z
LAST-MODIFIED:20250702T080908Z
UID:4447-1764432000-1764459000@procurement.co.ug
SUMMARY:Procurement & Supply chain Excellence Awards 2025 - Entries & Categories
DESCRIPTION:Procurement & Supply chain Excellence Awards 2025 \nStart here \n\nWrite to our team & express interests in participating.\nSelect Your Award Category\nCreate your entry & Submit Your Entry\nPay and Await Judging\n\nBest of luck! \nFor any questions\, please contact procurement@procurement.co.ug \n  \nWe’re thrilled to continue the celebration in 2025! \nJoin us at the at the award ceremony as we honour leaders who are pushing boundaries and setting new standards for the procurement and supply chain industry. \n  \nEntry deadline: 30th September 2025\, 23:59 GMT \nSingle category entry: UGX. 2\,000\,000.\nMultiple categories (2-3): UGX. 3\,000\,000.\nMultiple categories (4+): UGX. 4\,000\,000. \nCategories: \nThe Procurement & Supply Chain Excellence Awards 2025 will debut at inaugural Procurement & Supply Chain LIVE Kampala 2025. \nWe’re thrilled to begin the celebration in 2025! \n\nBest Public Procurement Entity Award.\nBrand Campaign of the Year Award.\nCompany of the year award.\nDigital Supply Chain Award.\nExecutive of the Year Award.\nFuture Leader Award.\nBest Logistics – Customs & freight forwarding Award.\nPartnership Award.\nProcurement/ Third party Consultancy Award.\nProcurement Technology Award.\nProcurement Transformation Award.\nProject of the Year Award.\nSocial Impact Award.\nEducation & Training Award.\nWarehousing\, Storage & Distribution Award.\nOil & Gas Supply Chain Award.\nSupply Chain Sustainability Award\n\nTo participate\, please contact procurement@procurement.co.ug \nor Call: Mob: +256774-531-302 or +256704-100-632 \n 
URL:https://procurement.co.ug/event/procurement-supply-chain-excellence-awards-2025-entries-categories/
CATEGORIES:Procurement Excellence Awards
ATTACH;FMTTYPE=image/jpeg:https://procurement.co.ug/wp-content/uploads/2025/02/Awards-poster.jpg
END:VEVENT
BEGIN:VEVENT
DTSTART;TZID=Africa/Nairobi:20251129T160000
DTEND;TZID=Africa/Nairobi:20251129T233000
DTSTAMP:20260426T001934
CREATED:20250201T060050Z
LAST-MODIFIED:20250702T080614Z
UID:4444-1764432000-1764459000@procurement.co.ug
SUMMARY:Procurement & Supply Chain Excellence Awards 2025
DESCRIPTION:Procurement & Supply Chain Excellence Awards 2025 \nCelebrating Uganda’s procurement & supply chain leaders & excellent organizations \n\n29th November  2025\n20 Awards\n200 in person attendees\n1000 networking opportunities\nCorporate Awards Dinner & Celebration.\nWelcome to the inaugural Procurement & Supply Chain Awards\n\nThe Procurement & Supply Chain Excellence Awards 2025 – celebrate excellence in Procurement and Supply chain initiatives in Uganda. With 18 prestigious categories\, 17 of which are open for entries\, these awards celebrate organizations and individuals driving meaningful change through innovative strategies and agile practices. This event is a platform to honour leaders who are pushing boundaries and setting new standards for the procurement and supply chain sector in Uganda. \nThe awards ceremony will be an African fabric fashion gala\, hosted at the iconic venue (To be communicated) in Kampala\, providing a glamorous backdrop for an evening of celebration and recognition. Attendees will include influential figures from across the Procurement and Supply chain landscape\, making this a premier event to network\, share ideas\, and celebrate achievements that are shaping a more innovative and efficient industry. \nKey Dates for Your Diary \nAll the dates you need to know for the Global Procurement & Supply Chain Awards. \n\nEntries Open – March 2025\nEntries Close -30th September 2025\nFinal Judging – 28th October 2025\nShortlist Announced – 31st October 2025\nAwards Ceremony – 29th November 2025\n\nSponsor Opportunities \nThe Procurement & Supply Chain Excellence Awards 2025 is an opportunity to showcase your values\, increase your brand profile\, network and celebrate with the leaders in procurement and supply chain. \nSponsorship Levels:\n \nHeadline Sponsor \n\nPosition your business as a true pioneer and leader in procurement and supply chain as the Awards Headline Sponsor.\nPlatinum Sponsor\nAlign with two award categories and place your company at the forefront of procurement and supply chain.\nGold Sponsor\nAlign with one of the award categories and position your company as one of the industry leaders in procurement and supply chain.\n\nContact a member of our team today to discuss all available sponsorship opportunities. \nEmail: procurement@procurement.co.ug  Mob: +256774-531-302 or +256704-100-632 \nBrand Reputation: Align your brand with a prestigious event\, showcasing your leadership and commitment to procurement & supply chain excellence. \nExclusive Networking Opportunities: Connect with 300+ senior executives and industry leaders\, fostering valuable relationships and potential partnerships. \nBrand Awareness: Gain significant exposure through event marketing\, media coverage\, and direct engagement with top-tier procurement & supply chain professionals. \nShowcase Corporate Values: Demonstrate your commitment to responsible business practices\, enhancing trust and credibility with stakeholders. \nSupport Industry Innovation: Help spotlight cutting-edge initiatives and best practices\, positioning your brand as a driver of positive change. \nhttps://procurement.co.ug/wp-content/uploads/2025/02/ProcurementAwards2025.mp4
URL:https://procurement.co.ug/event/procurement-supply-chain-excellence-awards-2025/
CATEGORIES:Procurement Excellence Awards
ATTACH;FMTTYPE=image/jpeg:https://procurement.co.ug/wp-content/uploads/2025/02/Awards-poster.jpg
END:VEVENT
BEGIN:VEVENT
DTSTART;TZID=Africa/Nairobi:20250301T080000
DTEND;TZID=Africa/Nairobi:20251129T170000
DTSTAMP:20260426T001934
CREATED:20250201T063511Z
LAST-MODIFIED:20250404T101100Z
UID:4449-1740816000-1764435600@procurement.co.ug
SUMMARY:Procurement & Supply Chain Excellence Awards 2025 - Sponsorship Opportunities
DESCRIPTION:Procurement & Supply Chain Excellence Awards 2025 \nCelebrating Uganda’s procurement & supply chain leaders & excellent organizations \nSponsor Opportunities \nThe Procurement & Supply Chain Excellence Awards 2025 is an opportunity to showcase your values\, increase your brand profile\, network and celebrate with the leaders in procurement and supply chain. \nSponsorship Levels: \n\nHeadline Sponsor\nPosition your business as a true pioneer and leader in procurement and supply chain as the Awards Headline Sponsor.\nPlatinum Sponsor\nAlign with two award categories and place your company at the forefront of procurement and supply chain.\nGold Sponsor\nAlign with one of the award categories and position your company as one of the industry leaders in procurement and supply chain.\n\nContact a member of our team today to discuss all available sponsorship opportunities. \nEmail: procurement@procurement.co.ug  Mob: +256774-531-302 or +256704-100-632 \nBrand Reputation:  Align your brand with a prestigious event\, showcasing your leadership and commitment to procurement & supply chain excellence. \nExclusive Networking Opportunities:  Connect with 300+ senior executives and industry leaders\, fostering valuable relationships and potential partnerships. \nBrand Awareness: Gain significant exposure through event marketing\, media coverage\, and direct engagement with top-tier procurement & supply chain professionals. \nShowcase Corporate Values: Demonstrate your commitment to responsible business practices\, enhancing trust and credibility with stakeholders. \nSupport Industry Innovation: Help spotlight cutting-edge initiatives and best practices\, positioning your brand as a driver of positive change.
URL:https://procurement.co.ug/event/procurement-supply-chain-excellence-awards-2025-sponsorship-opportunities/
CATEGORIES:Procurement Excellence Awards
ATTACH;FMTTYPE=image/jpeg:https://procurement.co.ug/wp-content/uploads/2025/02/Awards-poster.jpg
END:VEVENT
END:VCALENDAR